BEGIN:VCALENDAR
VERSION:2.0
PRODID:-//Glassman-Lassalle//NONSGML kigkonsult.se iCalcreator 2.16.12//
METHOD:PUBLISH
X-MS-OLK-FORCEINSPECTOROPEN:TRUE
BEGIN:VEVENT
UID:20260421T101946CEST-9212xedAsI@Glassman-Lassalle
DTSTAMP:20260421T081946Z
DESCRIPTION:
DTSTART:20250704T183000
DTEND:20250706T133000
LOCATION:Rebberg Zendo\, Wettingen
ORGANIZER:MAILTO:Glassman-Lassalle <admin@netzton.ch>
SUMMARY:Zen-Einführung mit Jürgen Lembke
END:VEVENT
END:VCALENDAR
