BEGIN:VCALENDAR
VERSION:2.0
PRODID:-//Glassman-Lassalle//NONSGML kigkonsult.se iCalcreator 2.16.12//
METHOD:PUBLISH
X-MS-OLK-FORCEINSPECTOROPEN:TRUE
BEGIN:VEVENT
UID:20260420T105123CEST-8563IOBhwg@Glassman-Lassalle
DTSTAMP:20260420T085123Z
DESCRIPTION:
DTSTART:20260414T183000
DTEND:20260414T212000
LOCATION:Bühne S\, Zürich
ORGANIZER:MAILTO:Glassman-Lassalle <admin@netzton.ch>
SUMMARY:Zen-Forum mit Mulan Sun Buschor
END:VEVENT
END:VCALENDAR
