BEGIN:VCALENDAR
VERSION:2.0
PRODID:-//Glassman-Lassalle//NONSGML kigkonsult.se iCalcreator 2.16.12//
METHOD:PUBLISH
X-MS-OLK-FORCEINSPECTOROPEN:TRUE
BEGIN:VEVENT
UID:20260420T121338CEST-1898fFz63U@Glassman-Lassalle
DTSTAMP:20260420T101338Z
DESCRIPTION:
DTSTART:20261228T183000
DTEND:20270102T090000
LOCATION:Propstei Wislikofen\, Wislikofen
ORGANIZER:MAILTO:Glassman-Lassalle <admin@netzton.ch>
SUMMARY:Neujahrs-Sesshin mit Ursula Popp
END:VEVENT
END:VCALENDAR
